BEGIN:VCALENDAR
VERSION:2.0
PRODID:-//eventon.com NONSGML v1.0//EN
BEGIN:VEVENT
UID:69e6cfc91d4c8
DTSTAMP:20260421T011553
DTSTART:20250310T183000Z
DTEND:20250310T193000Z
LOCATION:Camilla City Hall 30 E Broad St\,  Camilla\,  GA 31730
SUMMARY:City of Camilla-Council Meeting
DESCRIPTION: The City of Camilla-Council meeting is held on the second Monday of each month at 6:30PM-7:30PM.
END:VEVENT
END:VCALENDAR