BEGIN:VCALENDAR
VERSION:2.0
PRODID:-//eventon.com NONSGML v1.0//EN
BEGIN:VEVENT
UID:69e6e63c795b5
DTSTAMP:20260421T025140
DTSTART:20210308T183000Z
DTEND:20210308T193000Z
LOCATION:Camilla City Hall 30 E Broad St\,  Camilla\,  GA 31730
SUMMARY:City of Camilla-Council Meeting
DESCRIPTION: The City of Camilla-Council meeting is held on the second Monday of each month at 6:30PM-7:30PM.
END:VEVENT
END:VCALENDAR