BEGIN:VCALENDAR
VERSION:2.0
PRODID:-//eventon.com NONSGML v1.0//EN
BEGIN:VEVENT
UID:69ead9cda48f6
DTSTAMP:20260424T024741
DTSTART:20210402T183000Z
DTEND:20210402T193000Z
LOCATION:Camilla City Hall 30 E Broad St\,  Camilla\,  GA 31730
SUMMARY:City of Camilla-Work Session
DESCRIPTION: The city of Camilla-Work Session is held on every first Tuesday of the month from 6:30PM - 7:30PM.
END:VEVENT
END:VCALENDAR